BEGIN:VCALENDAR
VERSION:2.0
PRODID:-//Archdiocese of St. Louis - ECPv6.15.20//NONSGML v1.0//EN
CALSCALE:GREGORIAN
METHOD:PUBLISH
X-ORIGINAL-URL:https://www.archstl.org
X-WR-CALDESC:Events for Archdiocese of St. Louis
REFRESH-INTERVAL;VALUE=DURATION:PT1H
X-Robots-Tag:noindex
X-PUBLISHED-TTL:PT1H
BEGIN:VTIMEZONE
TZID:America/Chicago
BEGIN:DAYLIGHT
TZOFFSETFROM:-0600
TZOFFSETTO:-0500
TZNAME:CDT
DTSTART:20240310T080000
END:DAYLIGHT
BEGIN:STANDARD
TZOFFSETFROM:-0500
TZOFFSETTO:-0600
TZNAME:CST
DTSTART:20241103T070000
END:STANDARD
BEGIN:DAYLIGHT
TZOFFSETFROM:-0600
TZOFFSETTO:-0500
TZNAME:CDT
DTSTART:20250309T080000
END:DAYLIGHT
BEGIN:STANDARD
TZOFFSETFROM:-0500
TZOFFSETTO:-0600
TZNAME:CST
DTSTART:20251102T070000
END:STANDARD
BEGIN:DAYLIGHT
TZOFFSETFROM:-0600
TZOFFSETTO:-0500
TZNAME:CDT
DTSTART:20260308T080000
END:DAYLIGHT
BEGIN:STANDARD
TZOFFSETFROM:-0500
TZOFFSETTO:-0600
TZNAME:CST
DTSTART:20261101T070000
END:STANDARD
END:VTIMEZONE
BEGIN:VEVENT
DTSTART;TZID=America/Chicago:20250906T093000
DTEND;TZID=America/Chicago:20250906T110000
DTSTAMP:20260421T202323
CREATED:20250708T152040Z
LAST-MODIFIED:20250708T152040Z
UID:10000765-1757151000-1757156400@www.archstl.org
SUMMARY:Rosary for Life
DESCRIPTION:The Archdiocesan Respect Life Apostolate invites you to join us in peaceful prayer and witness outside the St. Louis abortion facility (4251 Forest Park Avenue\, St. Louis\, MO 63108) at the First Saturday Rosary for Life on September 6. We will meet at 9:30 a.m. on the sidewalk with additional prayer\, hospitality\, and refreshments at Our Lady of Guadalupe Covent right after. We appreciate the Salesian Sisters of Mary Immaculate for their generous welcome\, and Fr. Tony Ritter (Archdiocesan Office of Vocations) for leading us in prayer. \nYou’re encouraged to carpool\, park along Boyle\, and be aware that this is a high-traffic\, carefully monitored area. If you can’t join us in person\, please unite with us in prayer from wherever you are. Contact prolife@archstl.org or 314.792.7555 for additional information
URL:https://www.archstl.org/event/rosary-for-life-8/
LOCATION:Outside Abortion Facility\, Forest Park Avenue 4251\, St. Louis\, MO\, 63108\, United States
CATEGORIES:Respect Life Apostolate
ATTACH;FMTTYPE=image/jpeg:https://www.archstl.org/wp-content/uploads/2025/07/09-2025RosaryforLife.jpg
ORGANIZER;CN="Respect Life Apostolate":MAILTO:prolife@archstl.org
GEO:38.6371131;-90.2511926
X-APPLE-STRUCTURED-LOCATION;VALUE=URI;X-ADDRESS=Outside Abortion Facility Forest Park Avenue 4251 St. Louis MO 63108 United States;X-APPLE-RADIUS=500;X-TITLE=Forest Park Avenue 4251:geo:-90.2511926,38.6371131
END:VEVENT
BEGIN:VEVENT
DTSTART;TZID=America/Chicago:20250919T173000
DTEND;TZID=America/Chicago:20250919T210000
DTSTAMP:20260421T202323
CREATED:20250731T171715Z
LAST-MODIFIED:20250731T171715Z
UID:10000772-1758303000-1758315600@www.archstl.org
SUMMARY:Pro-Life Apologetics Workshop
DESCRIPTION:In this Pro-Life Apologetics Workshop\, learn how to have effective pro-life conversations that change hearts and save lives. The presenter is Kristina Massa from Justice for All\, a national leader in pro-life apologetics and outreach\, and hosted by the Archdiocesan Respect Life Apostolate at Our Lady Parish in Festus on Friday\, September 19. Doors open at 5:30 for a light dinner with the workshop starting at 6 p.m. To RSVP or for more information\, contact prolife@archstl.org and 314.792.7555. \n 
URL:https://www.archstl.org/event/pro-life-apologetics-workshop-2/
LOCATION:Our Lady Parish\, 1550 St Marys Ln\, Festus\, MO\, 63028\, United States
CATEGORIES:Respect Life Apostolate
ATTACH;FMTTYPE=image/png:https://www.archstl.org/wp-content/uploads/2025/07/RLA-JFA-Workshop-OurLadyFestus-PNG.png
GEO:38.2266883;-90.4199962
X-APPLE-STRUCTURED-LOCATION;VALUE=URI;X-ADDRESS=Our Lady Parish 1550 St Marys Ln Festus MO 63028 United States;X-APPLE-RADIUS=500;X-TITLE=1550 St Marys Ln:geo:-90.4199962,38.2266883
END:VEVENT
BEGIN:VEVENT
DTSTART;TZID=America/Chicago:20250920T080000
DTEND;TZID=America/Chicago:20250920T100000
DTSTAMP:20260421T202323
CREATED:20250619T160522Z
LAST-MODIFIED:20250805T203431Z
UID:10000761-1758355200-1758362400@www.archstl.org
SUMMARY:Archdiocesan Pro-Life Mass & Rosary
DESCRIPTION:Each month since January 2000\, the Archdiocese of St. Louis has held a pro-life Mass & Rosary on the third Saturday. The prayer vigil\, held either at the Cathedral Basilica of St. Louis or a host parish\, includes Saturday morning Mass and the Holy Rosary prayed either before or after Mass. \nThe four-fold prayer of each monthly pro-life prayer event is for: upholding the dignity of preborn children; moms\, couples\, and families facing unexpected pregnancy; those caught up in the abortion industry to embrace the Gospel of Life; and those wounded by abortion to receive healing. If your parish would like to host one of our prayer events in 2026\, please contact madeleineappelbaum@archstl.org or 314.792.7598. \n 
URL:https://www.archstl.org/event/archdiocesan-pro-life-rosary/
LOCATION:Sacred Heart (Troy)\, 100 Thompson Dr\, Troy\, MO\, 63379\, United States
CATEGORIES:Respect Life Apostolate
ATTACH;FMTTYPE=image/png:https://www.archstl.org/wp-content/uploads/2025/06/Monthly-Pro-Life-Mass-Flyer-Jul-Dec-2025-PNG.png
GEO:38.9799781;-90.9623763
X-APPLE-STRUCTURED-LOCATION;VALUE=URI;X-ADDRESS=Sacred Heart (Troy) 100 Thompson Dr Troy MO 63379 United States;X-APPLE-RADIUS=500;X-TITLE=100 Thompson Dr:geo:-90.9623763,38.9799781
END:VEVENT
BEGIN:VEVENT
DTSTART;TZID=America/Chicago:20250920T130000
DTEND;TZID=America/Chicago:20250920T160000
DTSTAMP:20260421T202323
CREATED:20250731T171955Z
LAST-MODIFIED:20250731T171955Z
UID:10000773-1758373200-1758384000@www.archstl.org
SUMMARY:Pro-Life Apologetics Workshop
DESCRIPTION:In this Pro-Life Apologetics Workshop\, learn how to have effective pro-life conversations that change hearts and save lives. The presenter is Kristina Massa from Justice for All\, a national leader in pro-life apologetics and outreach\, and hosted by the Archdiocesan Respect Life Apostolate at Our Lady Parish in Festus on Saturday\, September 20. Doors open at 1 p.m. for refreshments/fellowship with the workshop starting at 1:30 p.m. To RSVP or for more information\, contact prolife@archstl.org and 314.792.7555.
URL:https://www.archstl.org/event/pro-life-apologetics-workshop-3/
LOCATION:St. Gertrude\, 6535 Highway YY\, Washington\, MO\, 63090\, United States
CATEGORIES:Respect Life Apostolate
ATTACH;FMTTYPE=image/png:https://www.archstl.org/wp-content/uploads/2025/07/large-RLA-JFA-Workshop-StGertrude-PNG.png
ORGANIZER;CN="Respect Life Apostolate":MAILTO:prolife@archstl.org
GEO:38.497914;-91.048075
X-APPLE-STRUCTURED-LOCATION;VALUE=URI;X-ADDRESS=St. Gertrude 6535 Highway YY Washington MO 63090 United States;X-APPLE-RADIUS=500;X-TITLE=6535 Highway YY:geo:-91.048075,38.497914
END:VEVENT
END:VCALENDAR