BEGIN:VCALENDAR
VERSION:2.0
PRODID:-//Archdiocese of St. Louis - ECPv6.15.20//NONSGML v1.0//EN
CALSCALE:GREGORIAN
METHOD:PUBLISH
X-WR-CALNAME:Archdiocese of St. Louis
X-ORIGINAL-URL:https://www.archstl.org
X-WR-CALDESC:Events for Archdiocese of St. Louis
REFRESH-INTERVAL;VALUE=DURATION:PT1H
X-Robots-Tag:noindex
X-PUBLISHED-TTL:PT1H
BEGIN:VTIMEZONE
TZID:America/Chicago
BEGIN:DAYLIGHT
TZOFFSETFROM:-0600
TZOFFSETTO:-0500
TZNAME:CDT
DTSTART:20240310T080000
END:DAYLIGHT
BEGIN:STANDARD
TZOFFSETFROM:-0500
TZOFFSETTO:-0600
TZNAME:CST
DTSTART:20241103T070000
END:STANDARD
BEGIN:DAYLIGHT
TZOFFSETFROM:-0600
TZOFFSETTO:-0500
TZNAME:CDT
DTSTART:20250309T080000
END:DAYLIGHT
BEGIN:STANDARD
TZOFFSETFROM:-0500
TZOFFSETTO:-0600
TZNAME:CST
DTSTART:20251102T070000
END:STANDARD
BEGIN:DAYLIGHT
TZOFFSETFROM:-0600
TZOFFSETTO:-0500
TZNAME:CDT
DTSTART:20260308T080000
END:DAYLIGHT
BEGIN:STANDARD
TZOFFSETFROM:-0500
TZOFFSETTO:-0600
TZNAME:CST
DTSTART:20261101T070000
END:STANDARD
END:VTIMEZONE
BEGIN:VEVENT
DTSTART;TZID=America/Chicago:20250910T180000
DTEND;TZID=America/Chicago:20250910T203000
DTSTAMP:20260423T062059
CREATED:20250708T150901Z
LAST-MODIFIED:20250825T191259Z
UID:10000764-1757527200-1757536200@www.archstl.org
SUMMARY:How do I respond? - Evangelization and Relational Ministry
DESCRIPTION:Join us for an evening of prayer & fellowship in the Northern Vicariate to connect with others on mission to make disciples. Together we will share innovative practices\, ideas\, and learn how to support each other in our evangelization efforts. \nThursday\, September 10 6:00-8:30PM at St. John the Baptist Church\, (4200 Delor St\, 63116) \nA light meal will be provided. Please register at https://forms.office.com/r/TQkiBaT5Xx by Friday\, September 5 to be included in supply counts and to receive a pre-event informational email. \nFor more information\, contact Amy Buehrle at 314-792-6512 or amybuehrle@archstl.org.
URL:https://www.archstl.org/event/how-do-i-respond-evangelization-and-relational-ministry/
LOCATION:4200 Delor St. 63116\, 4200 Delor St.\, St. Louis\, MO\, 63116
CATEGORIES:Northern Vicariate
ATTACH;FMTTYPE=image/png:https://www.archstl.org/wp-content/uploads/2025/07/September-10-How-do-I-respond-2.png
GEO:38.5800128;-90.2645809
X-APPLE-STRUCTURED-LOCATION;VALUE=URI;X-ADDRESS=4200 Delor St. 63116 4200 Delor St. St. Louis MO 63116;X-APPLE-RADIUS=500;X-TITLE=4200 Delor St.:geo:-90.2645809,38.5800128
END:VEVENT
END:VCALENDAR