BEGIN:VCALENDAR
VERSION:2.0
PRODID:-//Archdiocese of St. Louis - ECPv6.15.20//NONSGML v1.0//EN
CALSCALE:GREGORIAN
METHOD:PUBLISH
X-ORIGINAL-URL:https://www.archstl.org
X-WR-CALDESC:Events for Archdiocese of St. Louis
REFRESH-INTERVAL;VALUE=DURATION:PT1H
X-Robots-Tag:noindex
X-PUBLISHED-TTL:PT1H
BEGIN:VTIMEZONE
TZID:America/Chicago
BEGIN:DAYLIGHT
TZOFFSETFROM:-0600
TZOFFSETTO:-0500
TZNAME:CDT
DTSTART:20230312T080000
END:DAYLIGHT
BEGIN:STANDARD
TZOFFSETFROM:-0500
TZOFFSETTO:-0600
TZNAME:CST
DTSTART:20231105T070000
END:STANDARD
BEGIN:DAYLIGHT
TZOFFSETFROM:-0600
TZOFFSETTO:-0500
TZNAME:CDT
DTSTART:20240310T080000
END:DAYLIGHT
BEGIN:STANDARD
TZOFFSETFROM:-0500
TZOFFSETTO:-0600
TZNAME:CST
DTSTART:20241103T070000
END:STANDARD
BEGIN:DAYLIGHT
TZOFFSETFROM:-0600
TZOFFSETTO:-0500
TZNAME:CDT
DTSTART:20250309T080000
END:DAYLIGHT
BEGIN:STANDARD
TZOFFSETFROM:-0500
TZOFFSETTO:-0600
TZNAME:CST
DTSTART:20251102T070000
END:STANDARD
END:VTIMEZONE
BEGIN:VEVENT
DTSTART;TZID=America/Chicago:20241001T183000
DTEND;TZID=America/Chicago:20241001T200000
DTSTAMP:20260421T184738
CREATED:20240828T194445Z
LAST-MODIFIED:20240912T195132Z
UID:10000460-1727807400-1727812800@www.archstl.org
SUMMARY:Creighton Model Introductory Session (Mercy) (IN PERSON)
DESCRIPTION:The first step in learning how to use the Creighton Model to track your cycle is to attend an Introductory Session. After the Introductory Session\, you will attend individual follow ups with a FertilityCare Practitioner who will help you learn the specifics of how to chart your cycle with the Creighton Model. Registration is required. \nRegister through Mercy with this link.
URL:https://www.archstl.org/event/creighton-model-introductory-session-mercy-8/
LOCATION:Mercy Fertility Care Services – Studt Avenue\, Studt Avenue\, Creve Coeur\, MO\, 63141\, United States
ORGANIZER;CN="Office of Natural Family Planning":MAILTO:stlnfp@archstl.org  
GEO:38.6680358;-90.4417489
X-APPLE-STRUCTURED-LOCATION;VALUE=URI;X-ADDRESS=Mercy Fertility Care Services – Studt Avenue Studt Avenue Creve Coeur MO 63141 United States;X-APPLE-RADIUS=500;X-TITLE=Studt Avenue:geo:-90.4417489,38.6680358
END:VEVENT
BEGIN:VEVENT
DTSTART;TZID=America/Chicago:20241006T150000
DTEND;TZID=America/Chicago:20241006T163000
DTSTAMP:20260421T184738
CREATED:20240717T145939Z
LAST-MODIFIED:20240912T195200Z
UID:10000398-1728226800-1728232200@www.archstl.org
SUMMARY:Creighton Model Introductory Session (SSM St. Clare)
DESCRIPTION:The Creighton Model FertilityCare System™​ teaches women to understand their cycle by observing changes in their bodies\, then charting these biological markers on a monthly basis. Couples can use this knowledge to avoid or achieve pregnancy. The Creighton Model system is 100% natural and very reliable. This class is instructor facilitated. Once you register for the class with a valid email address\, the instructor will email you the Zoom invitation prior to the class. Click here to register online at SSMHealth.com. \n 
URL:https://www.archstl.org/event/creighton-model-introductory-session-ssm-st-clare-3/
LOCATION:Virtual Event
ORGANIZER;CN="Office of Natural Family Planning":MAILTO:stlnfp@archstl.org  
END:VEVENT
BEGIN:VEVENT
DTSTART;TZID=America/Chicago:20241006T150000
DTEND;TZID=America/Chicago:20241006T163000
DTSTAMP:20260421T184738
CREATED:20240904T194744Z
LAST-MODIFIED:20240912T195228Z
UID:10000450-1728226800-1728232200@www.archstl.org
SUMMARY:Creighton Model Introductory Session (SSM St. Clare)
DESCRIPTION:The Creighton Model FertilityCare System™​ teaches women to understand their cycle by observing changes in their bodies\, then charting these biological markers on a monthly basis. Couples can use this knowledge to avoid or achieve pregnancy. The Creighton Model system is 100% natural and very reliable. This class is instructor facilitated. Once you register for the class with a valid email address\, the instructor will email you the Zoom invitation prior to the class. Click here to register online at SSMHealth.com. \n 
URL:https://www.archstl.org/event/creighton-model-introductory-session-ssm-st-clare-5/
LOCATION:Virtual Event
ORGANIZER;CN="Office of Natural Family Planning":MAILTO:stlnfp@archstl.org  
END:VEVENT
BEGIN:VEVENT
DTSTART;TZID=America/Chicago:20241009T183000
DTEND;TZID=America/Chicago:20241009T200000
DTSTAMP:20260421T184738
CREATED:20240828T194607Z
LAST-MODIFIED:20240912T195244Z
UID:10000463-1728498600-1728504000@www.archstl.org
SUMMARY:Creighton Model Introductory Session (Mercy)
DESCRIPTION:The first step in learning how to use the Creighton Model to track your cycle is to attend an Introductory Session. After the Introductory Session\, you will attend individual follow ups with a FertilityCare Practitioner who will help you learn the specifics of how to chart your cycle with the Creighton Model. This is a virtual event. Registration is required. \nRegister through Mercy with this link.
URL:https://www.archstl.org/event/creighton-model-introductory-session-mercy-11/
LOCATION:Virtual Event
ORGANIZER;CN="Office of Natural Family Planning":MAILTO:stlnfp@archstl.org  
END:VEVENT
BEGIN:VEVENT
DTSTART;TZID=America/Chicago:20241012T100000
DTEND;TZID=America/Chicago:20241012T113000
DTSTAMP:20260421T184738
CREATED:20240828T202140Z
LAST-MODIFIED:20240912T203739Z
UID:10000467-1728727200-1728732600@www.archstl.org
SUMMARY:Creighton Model Introductory Session (Amor Versus)
DESCRIPTION:The Creighton Model FertilityCare System™​ teaches women to understand their cycle by observing changes in their bodies\, then charting these biological markers on a monthly basis. Couples can use this knowledge to avoid or achieve pregnancy. The Creighton Model system is 100% natural and very reliable. \n Sign up for the virtual Amor Verus class with Joanne Mercer with this link. 
URL:https://www.archstl.org/event/creighton-model-introductory-session-amor-versus-2/
LOCATION:Virtual Event
ORGANIZER;CN="Office of Natural Family Planning":MAILTO:stlnfp@archstl.org  
END:VEVENT
BEGIN:VEVENT
DTSTART;TZID=America/Chicago:20241017T183000
DTEND;TZID=America/Chicago:20241017T200000
DTSTAMP:20260421T184738
CREATED:20240828T194501Z
LAST-MODIFIED:20241010T174510Z
UID:10000461-1729189800-1729195200@www.archstl.org
SUMMARY:Creighton Model Introductory Session (Mercy)
DESCRIPTION:The first step in learning how to use the Creighton Model to track your cycle is to attend an Introductory Session. After the Introductory Session\, you will attend individual follow ups with a FertilityCare Practitioner who will help you learn the specifics of how to chart your cycle with the Creighton Model. This is a virtual event. Registration is required. \nRegister through Mercy with this link.
URL:https://www.archstl.org/event/creighton-model-introductory-session-mercy-9/
LOCATION:Virtual Event
ORGANIZER;CN="Office of Natural Family Planning":MAILTO:stlnfp@archstl.org  
END:VEVENT
BEGIN:VEVENT
DTSTART;TZID=America/Chicago:20241021T183000
DTEND;TZID=America/Chicago:20241021T203000
DTSTAMP:20260421T184738
CREATED:20240828T192419Z
LAST-MODIFIED:20241009T182823Z
UID:10000457-1729535400-1729542600@www.archstl.org
SUMMARY:Creighton Model Introductory Session (Mercy) (IN PERSON)
DESCRIPTION:The first step in learning how to use the Creighton Model to track your cycle is to attend an Introductory Session. After the Introductory Session\, you will attend individual follow ups with a FertilityCare Practitioner who will help you learn the specifics of how to chart your cycle with the Creighton Model. Registration is required. \nContact: elizabeth.kauffeld@mercy.net  \nRegister through Mercy with this link.
URL:https://www.archstl.org/event/creighton-model-introductory-session-mercy-in-person-2/
LOCATION:Mercy Fertility Care Services – South\, Kennerly Road\, St. Louis\, Missouri\, 63128\, United States
ORGANIZER;CN="Office of Natural Family Planning":MAILTO:stlnfp@archstl.org  
GEO:38.5069813;-90.3805002
X-APPLE-STRUCTURED-LOCATION;VALUE=URI;X-ADDRESS=Mercy Fertility Care Services – South Kennerly Road St. Louis Missouri 63128 United States;X-APPLE-RADIUS=500;X-TITLE=Kennerly Road:geo:-90.3805002,38.5069813
END:VEVENT
BEGIN:VEVENT
DTSTART;TZID=America/Chicago:20241023T183000
DTEND;TZID=America/Chicago:20241023T200000
DTSTAMP:20260421T184738
CREATED:20240828T194531Z
LAST-MODIFIED:20241023T165436Z
UID:10000462-1729708200-1729713600@www.archstl.org
SUMMARY:Creighton Model Introductory Session (Mercy)
DESCRIPTION:The first step in learning how to use the Creighton Model to track your cycle is to attend an Introductory Session. After the Introductory Session\, you will attend individual follow ups with a FertilityCare Practitioner who will help you learn the specifics of how to chart your cycle with the Creighton Model. This is a virtual event. Registration is required. \nRegister through Mercy with this link.
URL:https://www.archstl.org/event/creighton-model-introductory-session-mercy-10/
LOCATION:Virtual Event
ORGANIZER;CN="Office of Natural Family Planning":MAILTO:stlnfp@archstl.org  
END:VEVENT
BEGIN:VEVENT
DTSTART;TZID=America/Chicago:20241026T100000
DTEND;TZID=America/Chicago:20241026T113000
DTSTAMP:20260421T184738
CREATED:20240828T192454Z
LAST-MODIFIED:20240913T152819Z
UID:10000458-1729936800-1729942200@www.archstl.org
SUMMARY:Creighton Model Introductory Session (Mercy)
DESCRIPTION:The first step in learning how to use the Creighton Model to track your cycle is to attend an Introductory Session. After the Introductory Session\, you will attend individual follow ups with a FertilityCare Practitioner who will help you learn the specifics of how to chart your cycle with the Creighton Model. This is a virtual event. Registration is required. \nRegister through Mercy with this link.
URL:https://www.archstl.org/event/creighton-model-introductory-session-mercy-6/
LOCATION:Virtual Event
ORGANIZER;CN="Office of Natural Family Planning":MAILTO:stlnfp@archstl.org  
END:VEVENT
END:VCALENDAR