BEGIN:VCALENDAR
VERSION:2.0
PRODID:-//Archdiocese of St. Louis - ECPv6.15.20//NONSGML v1.0//EN
CALSCALE:GREGORIAN
METHOD:PUBLISH
X-WR-CALNAME:Archdiocese of St. Louis
X-ORIGINAL-URL:https://www.archstl.org
X-WR-CALDESC:Events for Archdiocese of St. Louis
REFRESH-INTERVAL;VALUE=DURATION:PT1H
X-Robots-Tag:noindex
X-PUBLISHED-TTL:PT1H
BEGIN:VTIMEZONE
TZID:America/Chicago
BEGIN:DAYLIGHT
TZOFFSETFROM:-0600
TZOFFSETTO:-0500
TZNAME:CDT
DTSTART:20250309T080000
END:DAYLIGHT
BEGIN:STANDARD
TZOFFSETFROM:-0500
TZOFFSETTO:-0600
TZNAME:CST
DTSTART:20251102T070000
END:STANDARD
BEGIN:DAYLIGHT
TZOFFSETFROM:-0600
TZOFFSETTO:-0500
TZNAME:CDT
DTSTART:20260308T080000
END:DAYLIGHT
BEGIN:STANDARD
TZOFFSETFROM:-0500
TZOFFSETTO:-0600
TZNAME:CST
DTSTART:20261101T070000
END:STANDARD
BEGIN:DAYLIGHT
TZOFFSETFROM:-0600
TZOFFSETTO:-0500
TZNAME:CDT
DTSTART:20270314T080000
END:DAYLIGHT
BEGIN:STANDARD
TZOFFSETFROM:-0500
TZOFFSETTO:-0600
TZNAME:CST
DTSTART:20271107T070000
END:STANDARD
END:VTIMEZONE
BEGIN:VEVENT
DTSTART;TZID=America/Chicago:20260523T120000
DTEND;TZID=America/Chicago:20260523T163000
DTSTAMP:20260422T181722
CREATED:20260319T175002Z
LAST-MODIFIED:20260331T180334Z
UID:10001293-1779537600-1779553800@www.archstl.org
SUMMARY:Pentecost Vigil Registration
DESCRIPTION:PENTECOST VIGIL REGISTRATION \nSaturday May 23\, 2 026 Living Pentecost Fully Join us for these free\, family-friendly praise\, worship and fellowship events \nAfter Mass we will gather at the Cardinal Rigali Center Fleur de Lis Room for food and refreshments. RSVP requested (see below) \nEnglish Event in the chapel at the Resurrection Cemetery 6901 MacKenzie Rd\nTime: 2:00pm-4:30pm\nMass: 5:00pm in the chapel at the Resurrection Cemetery\nMore information Contact: Jane Guenther (314) 792-7334- or email janeguenther@archstl.org \nSpanish Event at the Cardinal Rigali Center Fleur de Lis Room 20 Archbishop May Dr\nTime: Noon -4:30pm\nMass 5:00pm in the chapel\nMore information Contact: Lizett Mata (314) 363-1137 or email: lizettmata@archstl.org \nCLICK HERE TO REGISTER FOR THE PENTECOST VIGIL
URL:https://www.archstl.org/event/pentecost-vigil-registration/
LOCATION:Cardinal Rigali Center\, 20 Archbishop May Drive\, St. Louis\, MO\, 63119\, United States
ATTACH;FMTTYPE=image/png:https://www.archstl.org/wp-content/uploads/2026/03/PENTECOST-VIGIL.png
GEO:38.5786123;-90.3348739
X-APPLE-STRUCTURED-LOCATION;VALUE=URI;X-ADDRESS=Cardinal Rigali Center 20 Archbishop May Drive St. Louis MO 63119 United States;X-APPLE-RADIUS=500;X-TITLE=20 Archbishop May Drive:geo:-90.3348739,38.5786123
END:VEVENT
END:VCALENDAR