BEGIN:VCALENDAR
VERSION:2.0
PRODID:-//Archdiocese of St. Louis - ECPv6.15.20//NONSGML v1.0//EN
CALSCALE:GREGORIAN
METHOD:PUBLISH
X-ORIGINAL-URL:https://www.archstl.org
X-WR-CALDESC:Events for Archdiocese of St. Louis
REFRESH-INTERVAL;VALUE=DURATION:PT1H
X-Robots-Tag:noindex
X-PUBLISHED-TTL:PT1H
BEGIN:VTIMEZONE
TZID:America/Chicago
BEGIN:DAYLIGHT
TZOFFSETFROM:-0600
TZOFFSETTO:-0500
TZNAME:CDT
DTSTART:20250309T080000
END:DAYLIGHT
BEGIN:STANDARD
TZOFFSETFROM:-0500
TZOFFSETTO:-0600
TZNAME:CST
DTSTART:20251102T070000
END:STANDARD
BEGIN:DAYLIGHT
TZOFFSETFROM:-0600
TZOFFSETTO:-0500
TZNAME:CDT
DTSTART:20260308T080000
END:DAYLIGHT
BEGIN:STANDARD
TZOFFSETFROM:-0500
TZOFFSETTO:-0600
TZNAME:CST
DTSTART:20261101T070000
END:STANDARD
BEGIN:DAYLIGHT
TZOFFSETFROM:-0600
TZOFFSETTO:-0500
TZNAME:CDT
DTSTART:20270314T080000
END:DAYLIGHT
BEGIN:STANDARD
TZOFFSETFROM:-0500
TZOFFSETTO:-0600
TZNAME:CST
DTSTART:20271107T070000
END:STANDARD
END:VTIMEZONE
BEGIN:VEVENT
DTSTART;TZID=America/Chicago:20260918T080000
DTEND;TZID=America/Chicago:20260920T170000
DTSTAMP:20260421T202004
CREATED:20260416T195648Z
LAST-MODIFIED:20260416T205153Z
UID:10001309-1789718400-1789923600@www.archstl.org
SUMMARY:Cherished: A Retreat for Those in a Season of Infertility
DESCRIPTION:If you struggle with infertility\, you may feel isolated and wrestle with a lot of conflicting emotions. If this is your burden\, you don’t have to carry it alone! The Archdiocese of St. Louis Office of NFP and Springs in the Desert are partnering to support couples carrying the cross of infertility with an overnight retreat. Come with your spouse or on your own to be supported\, hear inspiring reflections\, have opportunities for group sharing\, and experience friendship with others on this same path. \nCherished Retreat: A Retreat for Those in a Season of Infertility \nSeptember 18–20\, 2026\nMercy Conference and Retreat Center\n(2039 N Geyer Rd\, St. Louis\, MO 63131) \n \nThe Cherished Retreat begins with dinner on Friday evening and concludes with lunch on Sunday\, offering a restful\, prayerful weekend set apart for reflection\, connection\, and renewal. \n\n\n\nRegistration Timeline \nApril 20 – June 20\nRegistration is open exclusively to those within the Archdiocese of St. Louis. \n\n\n\nRegistration Rate Options (Archdiocese of St. Louis residents) \n\nCouple Registration: $300\nIndividual Registration: $200\n\nYour registration includes lodging\, meals\, and all retreat materials. \n\n\n\nLimited Availability \nSpace for this retreat is intentionally limited in order to preserve a peaceful\, supportive\, and personal environment for all participants. We encourage you to register early to reserve your spot. \n  \nCLICK HERE TO REGISTER
URL:https://www.archstl.org/event/cherished-a-retreat-for-those-in-a-season-of-infertility-2/
LOCATION:Mercy Conference and Retreat Center\, 2039 N Geyer Rd\, St Louis\, MO\, 63131\, United States
CATEGORIES:Office of Natural Family Planning
ATTACH;FMTTYPE=image/png:https://www.archstl.org/wp-content/uploads/2026/04/Cherished-Retreat-Graphics.png
ORGANIZER;CN="Office of Natural Family Planning":MAILTO:stlnfp@archstl.org  
GEO:38.6177626;-90.4245791
X-APPLE-STRUCTURED-LOCATION;VALUE=URI;X-ADDRESS=Mercy Conference and Retreat Center 2039 N Geyer Rd St Louis MO 63131 United States;X-APPLE-RADIUS=500;X-TITLE=2039 N Geyer Rd:geo:-90.4245791,38.6177626
END:VEVENT
END:VCALENDAR