BEGIN:VCALENDAR
VERSION:2.0
PRODID:-//Archdiocese of St. Louis - ECPv6.15.20//NONSGML v1.0//EN
CALSCALE:GREGORIAN
METHOD:PUBLISH
X-ORIGINAL-URL:https://www.archstl.org
X-WR-CALDESC:Events for Archdiocese of St. Louis
REFRESH-INTERVAL;VALUE=DURATION:PT1H
X-Robots-Tag:noindex
X-PUBLISHED-TTL:PT1H
BEGIN:VTIMEZONE
TZID:America/Chicago
BEGIN:DAYLIGHT
TZOFFSETFROM:-0600
TZOFFSETTO:-0500
TZNAME:CDT
DTSTART:20250309T080000
END:DAYLIGHT
BEGIN:STANDARD
TZOFFSETFROM:-0500
TZOFFSETTO:-0600
TZNAME:CST
DTSTART:20251102T070000
END:STANDARD
BEGIN:DAYLIGHT
TZOFFSETFROM:-0600
TZOFFSETTO:-0500
TZNAME:CDT
DTSTART:20260308T080000
END:DAYLIGHT
BEGIN:STANDARD
TZOFFSETFROM:-0500
TZOFFSETTO:-0600
TZNAME:CST
DTSTART:20261101T070000
END:STANDARD
BEGIN:DAYLIGHT
TZOFFSETFROM:-0600
TZOFFSETTO:-0500
TZNAME:CDT
DTSTART:20270314T080000
END:DAYLIGHT
BEGIN:STANDARD
TZOFFSETFROM:-0500
TZOFFSETTO:-0600
TZNAME:CST
DTSTART:20271107T070000
END:STANDARD
END:VTIMEZONE
BEGIN:VEVENT
DTSTART;TZID=America/Chicago:20260219T183000
DTEND;TZID=America/Chicago:20260219T203000
DTSTAMP:20260423T175243
CREATED:20260116T182322Z
LAST-MODIFIED:20260120T214350Z
UID:10001265-1771525800-1771533000@www.archstl.org
SUMMARY:Screentime\, Science\, & the Sacred.... Intentional Parenting in a Digital Age
DESCRIPTION:Join parents and educators for an engaging presentation by Dr. Johann D’Souza on screen time\, mental health\, and healthy family culture. Learn how screens impact brain development and receive practical\, hopeful strategies to help families find balance and strengthen relationships in today’s digital world. \nClick Here to Register
URL:https://www.archstl.org/event/screentime-science-the-sacred-intentional-parenting-in-a-digital-age/
LOCATION:Immaculate Concept (Dardenne Prairie)\, State Route N\, O'Fallon\, Missouri\, 63368\, United States
CATEGORIES:Office of Marriage and Family Life
ATTACH;FMTTYPE=image/webp:https://www.archstl.org/wp-content/uploads/2026/01/Screentime-Science-and-the-Sacred.webp
GEO:38.7674423;-90.7584608
X-APPLE-STRUCTURED-LOCATION;VALUE=URI;X-ADDRESS=Immaculate Concept (Dardenne Prairie) State Route N O'Fallon Missouri 63368 United States;X-APPLE-RADIUS=500;X-TITLE=State Route N:geo:-90.7584608,38.7674423
END:VEVENT
BEGIN:VEVENT
DTSTART;TZID=America/Chicago:20260220T090000
DTEND;TZID=America/Chicago:20260220T113000
DTSTAMP:20260423T175243
CREATED:20260123T202243Z
LAST-MODIFIED:20260123T202444Z
UID:10001270-1771578000-1771587000@www.archstl.org
SUMMARY:Screentime\, Science\, & the Sacred.... Intentional Parenting in a Digital Age
DESCRIPTION:Join parents and educators for an engaging presentation by Dr. Johann D’Souza on screen time\, mental health\, and healthy family culture. Learn how screens impact brain development and receive practical\, hopeful strategies to help families find balance and strengthen relationships in today’s digital world. \nClick Here to Register
URL:https://www.archstl.org/event/screentime-science-the-sacred-intentional-parenting-in-a-digital-age-2/
LOCATION:Cardinal Rigali Center\, 20 Archbishop May Drive\, St. Louis\, MO\, 63119\, United States
CATEGORIES:Office of Marriage and Family Life
ATTACH;FMTTYPE=image/webp:https://www.archstl.org/wp-content/uploads/2026/01/Screentime-Science-and-the-Sacred.webp
GEO:38.5786123;-90.3348739
X-APPLE-STRUCTURED-LOCATION;VALUE=URI;X-ADDRESS=Cardinal Rigali Center 20 Archbishop May Drive St. Louis MO 63119 United States;X-APPLE-RADIUS=500;X-TITLE=20 Archbishop May Drive:geo:-90.3348739,38.5786123
END:VEVENT
BEGIN:VEVENT
DTSTART;TZID=America/Chicago:20260221T090000
DTEND;TZID=America/Chicago:20260221T113000
DTSTAMP:20260423T175243
CREATED:20260123T203008Z
LAST-MODIFIED:20260123T214839Z
UID:10001271-1771664400-1771673400@www.archstl.org
SUMMARY:Screentime\, Science\, & the Sacred.... Intentional Parenting in a Digital Age
DESCRIPTION:Join parents and educators for an engaging presentation by Dr. Johann D’Souza on screen time\, mental health\, and healthy family culture. Learn how screens impact brain development and receive practical\, hopeful strategies to help families find balance and strengthen relationships in today’s digital world. \nClick Here to Register
URL:https://www.archstl.org/event/screentime-science-the-sacred-intentional-parenting-in-a-digital-age-3/
LOCATION:Our Lady Queen of Peace\, 4696 Notre Dame Lane\, House Springs\, MO\, 63051\, United States
CATEGORIES:Office of Marriage and Family Life
ATTACH;FMTTYPE=image/webp:https://www.archstl.org/wp-content/uploads/2026/01/Screentime-Science-and-the-Sacred.webp
GEO:38.406351;-90.5885288
X-APPLE-STRUCTURED-LOCATION;VALUE=URI;X-ADDRESS=Our Lady Queen of Peace 4696 Notre Dame Lane House Springs MO 63051 United States;X-APPLE-RADIUS=500;X-TITLE=4696 Notre Dame Lane:geo:-90.5885288,38.406351
END:VEVENT
BEGIN:VEVENT
DTSTART;TZID=America/Chicago:20260221T133000
DTEND;TZID=America/Chicago:20260221T160000
DTSTAMP:20260423T175243
CREATED:20260123T203218Z
LAST-MODIFIED:20260123T203218Z
UID:10001272-1771680600-1771689600@www.archstl.org
SUMMARY:Screentime\, Science\, & the Sacred.... Intentional Parenting in a Digital Age
DESCRIPTION:Join parents and educators for an engaging presentation by Dr. Johann D’Souza on screen time\, mental health\, and healthy family culture. Learn how screens impact brain development and receive practical\, hopeful strategies to help families find balance and strengthen relationships in today’s digital world. \nClick Here to Register
URL:https://www.archstl.org/event/screentime-science-the-sacred-intentional-parenting-in-a-digital-age-4/
LOCATION:Cardinal Rigali Center\, 20 Archbishop May Drive\, St. Louis\, MO\, 63119\, United States
CATEGORIES:Office of Marriage and Family Life
ATTACH;FMTTYPE=image/webp:https://www.archstl.org/wp-content/uploads/2026/01/Screentime-Science-and-the-Sacred.webp
GEO:38.5786123;-90.3348739
X-APPLE-STRUCTURED-LOCATION;VALUE=URI;X-ADDRESS=Cardinal Rigali Center 20 Archbishop May Drive St. Louis MO 63119 United States;X-APPLE-RADIUS=500;X-TITLE=20 Archbishop May Drive:geo:-90.3348739,38.5786123
END:VEVENT
END:VCALENDAR