BEGIN:VCALENDAR
VERSION:2.0
PRODID:-//Archdiocese of St. Louis - ECPv6.15.20//NONSGML v1.0//EN
CALSCALE:GREGORIAN
METHOD:PUBLISH
X-WR-CALNAME:Archdiocese of St. Louis
X-ORIGINAL-URL:https://www.archstl.org
X-WR-CALDESC:Events for Archdiocese of St. Louis
REFRESH-INTERVAL;VALUE=DURATION:PT1H
X-Robots-Tag:noindex
X-PUBLISHED-TTL:PT1H
BEGIN:VTIMEZONE
TZID:America/Chicago
BEGIN:DAYLIGHT
TZOFFSETFROM:-0600
TZOFFSETTO:-0500
TZNAME:CDT
DTSTART:20240310T080000
END:DAYLIGHT
BEGIN:STANDARD
TZOFFSETFROM:-0500
TZOFFSETTO:-0600
TZNAME:CST
DTSTART:20241103T070000
END:STANDARD
BEGIN:DAYLIGHT
TZOFFSETFROM:-0600
TZOFFSETTO:-0500
TZNAME:CDT
DTSTART:20250309T080000
END:DAYLIGHT
BEGIN:STANDARD
TZOFFSETFROM:-0500
TZOFFSETTO:-0600
TZNAME:CST
DTSTART:20251102T070000
END:STANDARD
BEGIN:DAYLIGHT
TZOFFSETFROM:-0600
TZOFFSETTO:-0500
TZNAME:CDT
DTSTART:20260308T080000
END:DAYLIGHT
BEGIN:STANDARD
TZOFFSETFROM:-0500
TZOFFSETTO:-0600
TZNAME:CST
DTSTART:20261101T070000
END:STANDARD
END:VTIMEZONE
BEGIN:VEVENT
DTSTART;TZID=America/Chicago:20250111T000000
DTEND;TZID=America/Chicago:20250124T235959
DTSTAMP:20260420T111920
CREATED:20250108T204833Z
LAST-MODIFIED:20250117T195323Z
UID:10000539-1736553600-1737763199@www.archstl.org
SUMMARY:Days of Prayer for the Legal Protection of Unborn Children
DESCRIPTION:Each January the Church marks the “Day of Prayer for the Legal Protection of Unborn Children” on the Roe v. Wade anniversary. Parishes\, churches\, schools\, and the faithful throughout the Archdiocese of St. Louis are marking the anniversary with special pro-life prayer events\, peaceful public witness\, and service on or around the actual anniversary on January 22. See the list below for date\, time\, and other details for each local event. Contact the local organizer for additional information. \n2025JanuaryLocalPro-LifeObservances
URL:https://www.archstl.org/event/days-of-prayer-for-the-legal-protection-of-unborn-children/
LOCATION:MO
CATEGORIES:Respect Life Apostolate
ATTACH;FMTTYPE=image/jpeg:https://www.archstl.org/wp-content/uploads/2025/01/RosesCrucifixPhoto-scaled.jpg
END:VEVENT
END:VCALENDAR